BEGIN:VCALENDAR
VERSION:2.0
PRODID:-//O Neill Healthcare - ECPv4.6.3//NONSGML v1.0//EN
CALSCALE:GREGORIAN
METHOD:PUBLISH
X-WR-CALNAME:O Neill Healthcare
X-ORIGINAL-URL:https://onhealthcare.ie
X-WR-CALDESC:Events for O Neill Healthcare
BEGIN:VEVENT
DTSTART;TZID=UTC+0:20170310T080000
DTEND;TZID=UTC+0:20170430T170000
DTSTAMP:20171103T193641
CREATED:20170224T113935Z
LAST-MODIFIED:20170311T122847Z
UID:1996-1489132800-1493571600@onhealthcare.ie
SUMMARY:Test Event
DESCRIPTION:Test Event – This is the description field. \n
URL:https://onhealthcare.ie/event/test-event/
LOCATION:106 Baldoyle Industrial Estate\, Dublin\, Dublin\, Ireland
GEO:53.3888031;-6.1204321
X-APPLE-STRUCTURED-LOCATION;VALUE=URI;X-ADDRESS=106 Baldoyle Industrial Estate Dublin Dublin Ireland;X-APPLE-RADIUS=500;X-TITLE=106 Baldoyle Industrial Estate:geo:-6.1204321,53.3888031
CATEGORIES:Event
ORGANIZER;CN="Test%20Org":MAILTO:test@gmail.com
END:VEVENT
END:VCALENDAR